BEGIN:VCALENDAR
VERSION:2.0
PRODID:SchoolNow
CALSCALE:GREGORIAN
BEGIN:VEVENT
UID:ff9ba98c-2868-11f1-a653-0affe91fbffd
DTSTAMP:20260325T163805Z
SUMMARY:Gearing Up for Kindergarten
LOCATION:Badlands Elementary & Fox Hills Elementary
URL;VALUE=URI:https://www.watford-city.k12.nd.us/calendar/8944775/gearing-u
 p-for-kindergarten
DTSTART:20260407T223000Z
DTEND:20260408T000000Z
END:VEVENT
END:VCALENDAR
