BEGIN:VCALENDAR
VERSION:2.0
PRODID:SchoolNow
CALSCALE:GREGORIAN
BEGIN:VEVENT
UID:6152bbfc-2869-11f1-a308-0a58a9feac02
DTSTAMP:20260325T164049Z
SUMMARY:Gearing Up for Kindergarten
LOCATION:Badlands Elementary & Fox Hills Elementary
URL;VALUE=URI:https://www.watford-city.k12.nd.us/calendar/8944776/gearing-u
 p-for-kindergarten-414
DTSTART:20260414T223000Z
DTEND:20260415T000000Z
END:VEVENT
END:VCALENDAR
