BEGIN:VCALENDAR
VERSION:2.0
PRODID:SchoolNow
CALSCALE:GREGORIAN
BEGIN:VEVENT
UID:83dc9f1c-2869-11f1-8321-0afff963552b
DTSTAMP:20260325T164147Z
SUMMARY:Gearing Up for Kindergarten
LOCATION:Badlands Elementary & Fox Hills Elementary
URL;VALUE=URI:https://www.watford-city.k12.nd.us/calendar/8944777/gearing-u
 p-for-kindergarten-421
DTSTART:20260421T223000Z
DTEND:20260422T000000Z
END:VEVENT
END:VCALENDAR
