BEGIN:VCALENDAR
VERSION:2.0
PRODID:SchoolNow
CALSCALE:GREGORIAN
BEGIN:VEVENT
UID:95993d5a-2869-11f1-a9d7-02c71ee0afd3
DTSTAMP:20260325T164217Z
SUMMARY:Gearing Up for Kindergarten
LOCATION:Badlands Elementary & Fox Hills Elementary
URL;VALUE=URI:https://www.watford-city.k12.nd.us/calendar/8944778/gearing-u
 p-for-kindergarten-428
DTSTART:20260428T223000Z
DTEND:20260429T000000Z
END:VEVENT
END:VCALENDAR
