BEGIN:VCALENDAR
VERSION:2.0
PRODID:SchoolNow
CALSCALE:GREGORIAN
BEGIN:VEVENT
UID:ac5f3738-2869-11f1-af6b-0a58a9feac02
DTSTAMP:20260325T164255Z
SUMMARY:Gearing Up for Kindergarten
LOCATION:Badlands Elementary & Fox Hills Elementary
URL;VALUE=URI:https://www.watford-city.k12.nd.us/calendar/8944779/gearing-u
 p-for-kindergarten-55
DTSTART:20260505T223000Z
DTEND:20260506T000000Z
END:VEVENT
END:VCALENDAR
