BEGIN:VCALENDAR
VERSION:2.0
PRODID:SchoolNow
CALSCALE:GREGORIAN
BEGIN:VEVENT
UID:cd4800c0-b271-11ef-80aa-0a58a9feac02
DTSTAMP:20241204T190140Z
SUMMARY:Holiday Dress-Up Days
URL;VALUE=URI:https://www.watford-city.k12.nd.us/schools/badlands/calendar/
 7120806/holiday-dress-up-days
DTSTART:20241216T140000Z
DTEND:20241220T220000Z
ATTACH;FILENAME=Badlands Elementary Holiday Dress Up Days.png;FMTTYPE=image
 /png:https://campussuite-storage.s3.amazonaws.com/prod/1559212/f7613b92-ea
 3a-11ee-ab98-0affe7a7671f/2887007/b57998a0-b271-11ef-aac8-0a58a9feac02/fil
 e/Badlands Elementary Holiday Dress Up Days.png
END:VEVENT
END:VCALENDAR
