BEGIN:VCALENDAR
VERSION:2.0
PRODID:SchoolNow
CALSCALE:GREGORIAN
BEGIN:VEVENT
UID:0a85fa98-32c1-11f1-9226-0a58a9feac02
DTSTAMP:20260408T030150Z
SUMMARY:Badlands Kindergarten Music Concert
LOCATION:Badlands Elementary Gym
URL;VALUE=URI:https://www.watford-city.k12.nd.us/schools/badlands/calendar/
 8977720/badlands-kindergarten-music-concert
DTSTART:20260506T000000Z
DTEND:20260506T010000Z
END:VEVENT
END:VCALENDAR
