BEGIN:VCALENDAR
VERSION:2.0
PRODID:SchoolNow
CALSCALE:GREGORIAN
BEGIN:VEVENT
UID:39aab8ae-32c1-11f1-a91a-023ae6981999
DTSTAMP:20260408T030200Z
SUMMARY:Badlands 3rd Grade Music Concert
LOCATION:Badlands Elementary Gym
URL;VALUE=URI:https://www.watford-city.k12.nd.us/schools/badlands/calendar/
 8977721/badlands-3rd-grade-music-concert
DTSTART:20260505T230000Z
DTEND:20260506T000000Z
END:VEVENT
END:VCALENDAR
