BEGIN:VCALENDAR
VERSION:2.0
PRODID:SchoolNow
CALSCALE:GREGORIAN
BEGIN:VEVENT
UID:5b072a46-32c1-11f1-bc88-0a58a9feac02
DTSTAMP:20260407T203735Z
SUMMARY:Badlands 1st Grade Music Concert
LOCATION:Badlands Elementary Gym
URL;VALUE=URI:https://www.watford-city.k12.nd.us/schools/badlands/calendar/
 8977722/badlands-1st-grade-music-concert
DTSTART:20260512T230000Z
DTEND:20260513T000000Z
END:VEVENT
END:VCALENDAR
