BEGIN:VCALENDAR
VERSION:2.0
PRODID:SchoolNow
CALSCALE:GREGORIAN
BEGIN:VEVENT
UID:8d5772bc-32c1-11f1-b4fa-0ea95dd34c39
DTSTAMP:20260407T203710Z
SUMMARY:Badlands 4th Grade Music Concert
LOCATION:Badlands Elementary Gym
URL;VALUE=URI:https://www.watford-city.k12.nd.us/schools/badlands/calendar/
 8977723/badlands-4th-grade-music-concert
DTSTART:20260513T000000Z
DTEND:20260513T010000Z
END:VEVENT
END:VCALENDAR
