BEGIN:VCALENDAR
VERSION:2.0
PRODID:SchoolNow
CALSCALE:GREGORIAN
BEGIN:VEVENT
UID:b97d0d20-32c1-11f1-9dce-0afff900871d
DTSTAMP:20260407T203824Z
SUMMARY:Badlands 2nd Grade Music Concert
LOCATION:Badlands Elementary Gym
URL;VALUE=URI:https://www.watford-city.k12.nd.us/schools/badlands/calendar/
 8977724/badlands-2nd-grade-music-concert
DTSTART:20260514T230000Z
DTEND:20260515T000000Z
END:VEVENT
END:VCALENDAR
