BEGIN:VCALENDAR
VERSION:2.0
PRODID:SchoolNow
CALSCALE:GREGORIAN
BEGIN:VEVENT
UID:d238791c-32c1-11f1-b20e-0afff9befcc5
DTSTAMP:20260407T203906Z
SUMMARY:Badlands 5th Grade Music Concert
LOCATION:Badlands Elementary Gym
URL;VALUE=URI:https://www.watford-city.k12.nd.us/schools/badlands/calendar/
 8977725/badlands-5th-grade-music-concert
DTSTART:20260515T000000Z
DTEND:20260515T010000Z
END:VEVENT
END:VCALENDAR
