BEGIN:VCALENDAR
VERSION:2.0
PRODID:SchoolNow
CALSCALE:GREGORIAN
BEGIN:VEVENT
UID:9b93b09e-3842-11f1-b5eb-0ea95dd34c39
DTSTAMP:20260414T205201Z
SUMMARY:Family Picnic - Badlands Elementary
LOCATION:Kent Pelton Park
URL;VALUE=URI:https://www.watford-city.k12.nd.us/schools/badlands/calendar/
 8993987/family-picnic-badlands-elementary
DTSTART:20260518T200900Z
DTEND:20260518T210900Z
END:VEVENT
END:VCALENDAR
