BEGIN:VCALENDAR
VERSION:2.0
PRODID:SchoolNow
CALSCALE:GREGORIAN
BEGIN:VEVENT
UID:042a1758-286f-11f1-b942-0a58a9feac02
DTSTAMP:20260325T172110Z
SUMMARY:Parent-Teacher Conferences
LOCATION:Watford City High School
URL;VALUE=URI:https://www.watford-city.k12.nd.us/schools/watford-high/calen
 dar/8944786/parent-teacher-conferences-330
DTSTART:20260330T220000Z
DTEND:20260331T010000Z
END:VEVENT
END:VCALENDAR
