BEGIN:VCALENDAR
VERSION:2.0
PRODID:SchoolNow
CALSCALE:GREGORIAN
BEGIN:VEVENT
UID:11dd5536-286f-11f1-aa68-0a58a9feac02
DTSTAMP:20260325T172737Z
SUMMARY:Parent-Teacher Conferences
LOCATION:Watford City High School
URL;VALUE=URI:https://www.watford-city.k12.nd.us/schools/watford-high/calen
 dar/8944787/parent-teacher-conferences-331
DTSTART:20260331T220000Z
DTEND:20260401T010000Z
END:VEVENT
END:VCALENDAR
