BEGIN:VCALENDAR
VERSION:2.0
PRODID:SchoolNow
CALSCALE:GREGORIAN
BEGIN:VEVENT
UID:02da443e-2871-11f1-8e79-024b1f994ab3
DTSTAMP:20260325T173526Z
SUMMARY:Community Cleanup
URL;VALUE=URI:https://www.watford-city.k12.nd.us/schools/watford-high/calen
 dar/8944791/community-cleanup
DTSTART:20260506T140000Z
DTEND:20260506T170000Z
END:VEVENT
END:VCALENDAR
