BEGIN:VCALENDAR
VERSION:2.0
PRODID:SchoolNow
CALSCALE:GREGORIAN
BEGIN:VEVENT
UID:b153ac3a-2871-11f1-b52e-024b1f994ab3
DTSTAMP:20260325T174019Z
SUMMARY:Prom 2026
LOCATION:Rough Rider Center Arena
URL;VALUE=URI:https://www.watford-city.k12.nd.us/schools/watford-high/calen
 dar/8944794/prom-2026
DTSTART:20260329T000000Z
DTEND:20260329T010000Z
END:VEVENT
END:VCALENDAR
