BEGIN:VCALENDAR
VERSION:2.0
PRODID:SchoolNow
CALSCALE:GREGORIAN
BEGIN:VEVENT
UID:462e7380-2872-11f1-992b-0a58a9feac02
DTSTAMP:20260325T174429Z
SUMMARY:Cultural Food Fair
LOCATION:Rough Rider Center Arena
URL;VALUE=URI:https://www.watford-city.k12.nd.us/schools/watford-high/calen
 dar/8944795/cultural-food-fair
DTSTART:20260422T200000Z
DTEND:20260422T230000Z
END:VEVENT
END:VCALENDAR
