BEGIN:VCALENDAR
VERSION:2.0
PRODID:SchoolNow
CALSCALE:GREGORIAN
BEGIN:VEVENT
UID:bf651518-286f-11f1-ba9f-0affe91fbffd
DTSTAMP:20260325T172624Z
SUMMARY:Parent-Teacher Conferences
LOCATION:WCMS & Bakken Area Skills Center
URL;VALUE=URI:https://www.watford-city.k12.nd.us/schools/watford-middle/cal
 endar/8944789/parent-teacher-conferences-330
DTSTART:20260330T172400Z
DTEND:20260330T182400Z
END:VEVENT
END:VCALENDAR
