BEGIN:VCALENDAR
VERSION:2.0
PRODID:SchoolNow
CALSCALE:GREGORIAN
BEGIN:VEVENT
UID:ca2106d8-286f-11f1-9d42-0a58a9feac02
DTSTAMP:20260325T172706Z
SUMMARY:Parent-Teacher Conferences
LOCATION:WCMS & Bakken Area Skills Center
URL;VALUE=URI:https://www.watford-city.k12.nd.us/schools/watford-middle/cal
 endar/8944790/parent-teacher-conferences-331
DTSTART:20260331T172400Z
DTEND:20260331T182400Z
END:VEVENT
END:VCALENDAR
