BEGIN:VCALENDAR
VERSION:2.0
PRODID:SchoolNow
CALSCALE:GREGORIAN
BEGIN:VEVENT
UID:5ff802f8-3908-11f1-ab26-0a58a9feac02
DTSTAMP:20260415T201915Z
SUMMARY:WCMS Spring Band Concert
LOCATION:WCHS Auditorium
URL;VALUE=URI:https://www.watford-city.k12.nd.us/schools/watford-middle/cal
 endar/8996510/wcms-spring-band-concert
DTSTART:20260505T000000Z
DTEND:20260505T010000Z
END:VEVENT
END:VCALENDAR
