BEGIN:VCALENDAR
VERSION:2.0
PRODID:SchoolNow
CALSCALE:GREGORIAN
BEGIN:VEVENT
UID:76aa5bba-390b-11f1-806d-0a58a9feac02
DTSTAMP:20260416T185318Z
SUMMARY:Combined Choir & High School Band Concert
LOCATION:WCHS Auditorium
URL;VALUE=URI:https://www.watford-city.k12.nd.us/schools/watford-middle/cal
 endar/8996520/combined-choir-high-school-band-concert
DTSTART:20260511T230000Z
DTEND:20260512T010000Z
END:VEVENT
END:VCALENDAR
